BEGIN:VCALENDAR
VERSION:2.0
PRODID:icalendar-ruby
CALSCALE:GREGORIAN
METHOD:PUBLISH
BEGIN:VEVENT
DTSTAMP:20260421T040942Z
UID:9-234729@iglesiaverticalict.com
DTSTART:20261005T000000Z
DTEND:20261005T013000Z
CLASS:PUBLIC
CREATED:20260420T182429
DESCRIPTION:
LAST-MODIFIED:20260420T182429
LOCATION:812 S Oliver Ave\, Wichita\, KS 67218
SUMMARY:Servicio Dominical
URL;VALUE=URI:https://www.iglesiaverticalict.com/events/servicio-dominical/
 2026-10-04
ATTACH;FILENAME=IMG_5929.jpeg;FMTTYPE=image/jpeg:https://dq5pwpg1q8ru0.clou
 dfront.net/2025/11/11/15/13/59/95b8e4a8-7042-4db4-87e3-abca9e96f213/IMG_59
 29.jpeg
END:VEVENT
END:VCALENDAR
